Workbook
Name 汚泥処理能力: #REF!
Name 割増対象賃金比: #REF!
Name 割増対象賃金比: #REF!
Name 割増対象賃金比: #REF!
Name 基準人数: #REF!
Name 契約期間: #REF!
Name 契約期間: #REF!
Name 契約期間: #REF!
Name 現在流入水量: #REF!
Name 主ポンプ能力: #REF!
Name 水処理能力: #REF!
Name 設備補正率: #REF!
Name 全体計画能力: #REF!
Name 電工単価: #REF!
Name 日数補正係数: #REF!
Name 日数補正後基準人数: #REF!
Name 保守点検勤務日数: #REF!

Sheet 説明資料（入力シート１）
B2: 業務委託費積算要領ソフト入力シート
H3: =NOW() -> 46298.675
B4: 発注者名 | C4: 高島市 | G4: 基準日 | H4: 45748
B5: 施設名称 | C5: 高島市水道 | G5: 会社名 | H5: 日本ﾒﾝﾃﾅｽｴﾝｼﾞﾆﾔﾘﾝｸﾞ株式会社
B6: 件 名 | C6: 高島市水道施設維持管理業務
B7: 契約年度 | D7: 令和 | E7: 8 | F7: 年度 | G7: 部 署 | H7: 滋賀支店
B8: 契約期間 | C8: 3年 | G8: 作成者 | H8: 小山伸二
B10: （１）運転管理業務
B11: 基準単価
B12: 対象地域
B13: 労 務 単 価 | D13: 日割基礎単価 | F13: 割増基礎単価率 | S13: 北海道 平成３１年度単価
B14: 保全技師Ⅰ | D14: 27900 | E14: 円/日 | F14: 9.4 | G14: ％ | S14: 北海道 平成３０年度単価
B15: 保全技師Ⅱ | D15: 26300 | E15: 円/日 | F15: 9.6 | G15: ％ | S15: 北海道 平成２９年度単価
B16: 保全技師補 | D16: 23400 | E16: 円/日 | F16: 9.2 | G16: ％ | S16: 北海道 平成２８年度単価
B17: 保全技術員 | D17: 22300 | E17: 円/日 | F17: 10 | G17: ％ | S17: 北海道 平成２７年度単価
B18: 保全技術員補 | D18: 19300 | E18: 円/日 | F18: 10.4 | G18: ％ | S18: 宮城 平成３１年度単価
S19: 宮城 平成３０年度単価
B20: 基準日数、勤務時間、人員数、深夜勤務時間、夜間勤務時間 | S20: 宮城 平成２９年度単価
B21: 業 務 内 容 | D21: 勤 務 日 数 | F21: 勤 務 時 間 | H21: 人 員 数 | S21: 宮城 平成２８年度単価
B22: 運転管理業務 | D22: 365 | E22: 日/年 | F22: 8 | G22: 時間/日 | H22: 2 | I22: 名 | S22: 宮城 平成２７年度単価
D23: 深夜勤務時間 ※１ | F23: 夜間勤務時間 ※２ | S23: 東京 平成３１年度単価
D24: 7 | E24: 時間 | F24: 16 | G24: 時間 | H24: ※１ 22～5時までの時間 | S24: 東京 平成３０年度単価
H25: ※２ 日勤（9～17時）以外の勤務時間 | S25: 東京 平成２９年度単価
B26: 処理方式による補正 | S26: 東京 平成２８年度単価
B27: 処 理 方 式 | H27: 有・無 | I27: 補 正 率 | S27: 東京 平成２７年度単価
B28: ・高度浄水処理方式 | H28: 有 | I28: =IF(H28="有",0.2,"") -> 0.2 | K28: =IF(SUM(I28:J31)>0.2,0.2,IF(SUM(I28:J31)<0.1,0,SUM(I28:J31))) -> 0.2 | S28: 新潟 平成３１年度単価
B29: ・膜ろ過方式 ・凝集沈澱ろ過方式 | H29: 有（２つ以上） | I29: =IF(H29="有（１つ）",0.15,IF(H29="有（２つ以上）",0.2,"")) -> 0.2 | S29: 新潟 平成３０年度単価
B30: ・除鉄・除マンガン設備、脱酸設備等による浄水処理方式 | H30: 有（２つ以上） | I30: =IF(H30="有（１つ）",0.15,IF(H30="有（２つ以上）",0.2,"")) -> 0.2 | S30: 新潟 平成２９年度単価
B31: ・消毒のみの浄水処理方式 ・紫外線処理施設 | S31: 新潟 平成２８年度単価
B32: 水 運 用 | H32: 有 | I32: =IF(H32="有",0.05,"") -> 0.05 | K32: =IF(I32="","0",I32) -> 0.05 | S32: 新潟 平成２７年度単価
B33: ・取水、配水施設が多いなど、水運用に高度な技術を要する場合 | S33: 愛知 平成３１年度単価
S34: 愛知 平成３０年度単価
B35: 技術維持向上費補正 | S35: 愛知 平成２９年度単価
B36: 項 目 | H36: 有・無 | I36: 補 正 率 | S36: 愛知 平成２８年度単価
B37: 技術士（上下水道部門）、水道浄水施設管理技士１級 | H37: 無 | I37: =IF(H37="有（１つ）",0.03,IF(H37="有（２つ以上）",0.05,"")) | K37: =IF(SUM(I37:J41)>0.05,0.05,IF(SUM(I37:J41)<0.01,0,SUM(I37:J41))) -> 0.02 | S37: 愛知 平成２７年度単価
B38: 水道浄水施設管理技士２級、電気主任技術者 | H38: 有（１つ） | I38: =IF(H38="有（１つ）",0.02,IF(H38="有（２つ以上）",0.04,"")) -> 0.02 | S38: 大阪 平成３１年度単価
B39: 水道浄水施設管理技士３級、酸素欠乏・硫化水素危険作業主任者 電気工事士、特定化学物質作業主任者、危険物取扱者、ボイラー技士 玉掛技能者、エネルギー管理士等 | I39: =IF(H39="有（１つ）",0.01,IF(H39="有（２つ）",0.02,IF(H39="有（３つ）",0.03,IF(H39="有（４つ）",0.04,IF(H39="有（５つ以上）",0.05,""))))) | S39: 大阪 平成３０年度単価
S40: 大阪 平成２９年度単価
S41: 大阪 平成２８年度単価
S42: 大阪 平成２７年度単価
...

Sheet 説明資料（入力シート２）
B2: （２）保全管理業務費（日常・定期点検以外の点検等） | H2: ※金額は直接業務費のみを記入
B3: 例、自家用電気工作物保守点検、地下タンク機密点検、監視制御システム保守点検 等
B5: 種 目 | E5: 単 位 | F5: 数 量 | G5: 金 額 | I5: 備 考
B11: （３）その他業務費
B12: 例、水道用薬品等の調達事務業務 | G12: ※金額は直接業務費のみを記入
B14: 種 目 | E14: 単 位 | F14: 数 量 | G14: 金 額 | I14: 備 考
B20: （４）修繕補修費
B21: 例、ポンプ取替・ベアリング交換等 | G21: ※金額は直接業務費のみを記入
B23: 種 目 | E23: 単 位 | F23: 数 量 | G23: 金 額 | I23: 備 考
B29: （５）直接経費（積上げ分）
B30: 例、点検用車両等
B32: 種 目 | E32: 単 位 | F32: 数 量 | G32: 金 額 | I32: 備 考
B37: （６）薬品調達業務
B38: 例、次亜塩素酸ナトリウム・軽油・電力等
B40: 種 目 | E40: 単 位 | F40: 数 量 | G40: 単 価 | I40: 金 額
I41: =F41*G41 -> 0
I42: =F42*G42 -> 0
I43: =F43*G43 -> 0
I44: =F44*G44 -> 0
I45: =F45*G45 -> 0
I46: =F46*G46 -> 0
I47: =F47*G47 -> 0
I48: =F48*G48 -> 0
B50: （７）関連業務委託費
B51: 例、除雪作業・電話交換設備保守点検等 | G51: ※金額は経費を含む金額を記入
B53: 種 目 | E53: 単 位 | F53: 数 量 | G53: 金 額 | I53: 備 考

Sheet 内訳表
B2: 業務委託費内訳書（単年度）
B3: 費 目 | C3: 工 種 | D3: 種 別 | E3: 細 別 | F3: 単位 | G3: 数量 | H3: 金 額 | I3: 摘 要
B4: 業務委託費
D5: 技術管理費
E6: 水道技術管理費 | F6: 式 | G6: 1
E7: 事務業務費 | F7: 式 | G7: 1
E8: 小計
D9: 直接業務費
E10: 運転管理業務費（運転） | F10: 式 | G10: 1
E11: 運転管理業務費（監視） | F11: 式 | G11: 1
E12: 保全管理業務費 | F12: 式 | G12: 1
E13: その他業務費 | F13: 式 | G13: 1
E14: 小計
E15: 直接業務費計
D16: 直接経費 | E16: 率計上 | F16: 式 | G16: 1
E17: 積み上げ分 | F17: 式 | G17: 1
E18: 小計
D19: 技術経費 | E19: 管理技術費 | F19: 式 | G19: 1
E20: 技術維持向上費 | F20: 式 | G20: 1
E21: 運転管理・保全管理業務 | F21: 式 | G21: 1
E22: 小計 | F22: 式 | G22: 1
D23: 間接業務費 | F23: 式 | G23: 1
C25: 業務原価 | F25: 式 | G25: 1 | H25: =H15+H18+H22+H23 -> 0
D26: 諸経費 | F26: 式 | G26: 1
C28: 業務価格 | F28: 式 | G28: 1 | H28: =+H26+H25 -> 0 | I28: （単年度） 万円止め
C29: 消費税等相当額 | F29: 式 | G29: 1 | H29: =H28*0.1 -> 0 | I29: ="消費税等の税率＝" & 10 & "％" -> 消費税等の税率＝10％

Sheet 入力シート２
B2: （２）その他業務費
B3: 業務内容 | E3: 年間延業務人数（人）
B4: 定期点検別途積上げ業務
B5: =#REF! -> #REF!
B6: =#REF! -> #REF!
B7: その他の作業時間
B8: 計 | E8: =ROUNDDOWN(SUM(#REF!),0) -> #REF!
B10: 区分 | D10: 年間延業務人数(人) | F10: 技術者区分 | H10: 比率 | J10: 配置人数（人）
B11: その他業務員 | D11: =E8 -> #REF! | F11: 保全技師Ⅰ | H11: 10 | J11: =$D$11*H11% -> #REF!
F12: 保全技師Ⅱ | H12: 10 | J12: =$D$11*H12% -> #REF!
F13: 保全技師補 | H13: 20 | J13: =$D$11*H13% -> #REF!
F14: 保全技術員 | H14: 35 | J14: =$D$11*H14% -> #REF!
F15: 保全技術員補 | H15: 25 | J15: =$D$11*H15% -> #REF!
F16: 計 | H16: =SUM(H11:I15) -> 100 | J16: =SUM(J11:K15) -> #REF!
B19: （３）保全管理業務費（日常・定期点検以外の点検等） | H19: ※メーカー点検等の包括業務費
B20: 例、自家用電気工作物保守点検、地下タンク機密点検、監視制御システム保守点検 等
B22: 種 目 | E22: 単 位 | F22: 数 量 | G22: 金 額 | I22: 備 考
I23: 詳細はメーカ見積書
B29: 例、水道用薬品等の調達事務業務 | G29: ※金額は直接業務費のみを記入
B31: 種 目 | E31: 単 位 | F31: 数 量 | G31: 金 額 | I31: 備 考
B37: （４）修繕補修費
B38: 例、ポンプ取替・ベアリング交換等 | G38: ※金額は直接業務費のみを記入
B40: 種 目 | E40: 単 位 | F40: 数 量 | G40: 金 額 | I40: 備 考
B46: （５）直接経費（積上げ分）
B47: 例、点検用車両等
B49: 種 目 | E49: 単 位 | F49: 数 量 | G49: 金 額 | I49: 備 考
B50: 車両費 | E50: 式 | F50: 1 | G50: =I75 -> 2980700 | I50: 明細書1
B51: 残留塩素計 | C51: 残留塩素計 | D51: 残留塩素計 | E51: 台 | F51: 1 | G51: =M51/5 -> 14800 | M51: 74000 | N51: HACH2470 耐用年数5年 | T51: 5 | U51: hach
B52: 残留塩素測定用試薬 | C52: 残留塩素測定用試薬 | D52: 残留塩素測定用試薬 | E52: 袋 | F52: 10 | G52: 3800 | M52: 3800 | N52: 104回×3施設＋52回×38施設＝2,288 365×41箇所＝14,965 2,288＋14,965＝17,253 24検体×1回
B53: 携帯用濁色計 | C53: 携帯用濁色計 | D53: 携帯用濁色計 | E53: 台 | F53: 1 | G53: =M53/5 -> 29600 | M53: 148000 | N53: DTC-4DG 耐用年数５年 | T53: 5 | U53: DTC-4DG
B54: 携帯用pH計 | C54: 携帯用pH計 | D54: 携帯用pH計 | E54: 台 | F54: 1 | G54: =M54/3 -> 23333.333 | M54: 70000 | N54: HM-30P 耐用年数3年 | T54: 5
B55: 発電機 | C55: 発電機 | D55: 発電機 | E55: 台 | F55: 1 | G55: =M55/15 -> 15000 | M55: 225000 | N55: 3ｋVA＠×日 | T55: 15 | U55: 10～20万？
B56: ガソリン | C56: ガソリン | D56: ガソリン | E56: L | F56: 100 | G56: 165
B57: エンジンポンプ | C57: エンジンポンプ | D57: エンジンポンプ | E57: 台 | F57: 1 | G57: 5000 | N57: SEV-25F（25㎜） 耐用年数5年 | T57: 3
B58: ホース | C58: ホース | D58: ホース | E58: 台 | F58: 1 | G58: 5460 | M58: 148000 | N58: TR-15（15ｍ）×2 耐用年数5年 | T58: 3 | U58: DTC-4DG
B59: 水中ポンプ | C59: 水中ポンプ | D59: 水中ポンプ | E59: 本 | F59: 1 | G59: 9600 | N59: 吐出量 50L/min 耐用年数5年 | T59: 3
B60: SS分析費 | E60: 検体 | F60: =24*2 -> 48 | G60: =48*2200 -> 105600 | I60: 48検体×2,200円
B61: SS検体搬送料
B69: １号明細書
B70: 費目 | D70: 形状・寸法 | F70: 単位 | G70: 数量 | H70: 単価 | I70: 金額 | J70: 摘要
...

Sheet 施設別算定表
B1: ③ 保全管理業務費の積算
B2: ア 年間延べ人数（人） | G2: =ROUNDDOWN(G4/480,2) -> #REF! | H2: （人） | I2: ＋ | J2: =#REF! -> #REF! | K2: （人） | L2: ＝ | M2: =G2+J2 -> #REF!
B3: ＝ 年間総点検時間（分） ÷ 60（分） ÷ 所定労働時間
B4: 年間総点検時間 | G4: =ROUNDDOWN(SUM(F7,I7,L7),0) -> #REF! | H4: （分）
F6: 日常点検時間合計 | I6: 定期点検時間 | L6: 移動時間 | O6: =E6定期点検時間合計(分)*経過年数補正+移動時間(分) -> #NAME?
B7: ＝ | F7: =SUM(F469,F437,F1109,F1333,F533,F501,F565,F1141,F1301,F1365,F1429,F1493,F213,F245,F85,F117,F149,F181,F885,F917,F949,F309,F597,F629,F661,F693,F725,F1237,F1269,F1557,F1525,F1589,F1621,F1653,F1685,F1909,F1941,F1781,F1813,F2101,F2133,F2165,F1973,F2005,F1845,F1877,F1717,F1749,F2037,F2069,F341,F373,F405,F757,F789,F821,F853,F2261,F2645,F2325,F2549,F2613,F2197,F2229,F2293,F2389,F2485,F2581,F2357,F2453,F2421,F2517,F1397,F1461,F1173,F981,F1045,F2677,F2709,F2741,F1013,F1077,F1205,F277,F2774,F2806,F2838,F2870,F2902,F2934,F2966,F2998,F3030,F3062,F3094,F3126,F3158,F3190,F3222,F3254,F3286,F3318,F3350,F3382,F3414,F3446,F3478,F3510,F3542,F3574,F3606,F3638,F3670,F3702,F3734,F3766,F3798,F3830,F3862,F3894,F3926,F3958,F3990,F4022,F4054,F4086,F4118,F4150,F4182,F4214,F4246,F4278,F4310,F4342,F4374,F4406,F4438,F4470,F4502,F4534,F4566,F4598,F4630,F4662,F4694,F4726,F4758,F4790,F4822,F4854,F4886,F4918,F4950,F4982,F5014,F5046,F5078,F5110,F5142,F5174,F5206,F5238,F5270,F5302,F5334,F5366,F5398,F5430,F5462,F5494,F5526,F5558,F5590,F5622,F5654,F5686,F5718,F5750,F5782,F5814,F5846,F5878,F5910,F5942,F5974,F6006,F6038,F6070,F6102,F6134,F6166,F6198,F6230,F6262,F6294,F6326,F6358,F6390,F6422,F6454,F6486,F6518,F6550) -> #REF! | H7: （分）＋ | I7: =SUM(J469,J437,J1109,J1333,J533,J501,J565,J1141,J1301,J1365,J1429,J1493,J213,J245,J85,J117,J149,J181,J885,J917,J949,J309,J597,J629,J661,J693,J725,J1237,J1269,J1557,J1525,J1589,J1621,J1653,J1685,J1909,J1941,J1781,J1813,J2101,J2133,J2165,J1973,J2005,J1845,J1877,J1717,J1749,J2037,J2069,J341,J373,J405,J757,J789,J821,J853,J2261,J2645,J2325,J2549,J2613,J2197,J2229,J2293,J2389,J2485,J2581,J2357,J2453,J2421,J2517,J1397,J1461,J1173,J981,J1045,J2677,J2709,J2741,J1013,J1077,J1205,J277,J2774,J2806,J2838,J2870,J2902,J2934,J2966,J2998,J3030,J3062,J3094,J3126,J3158,J3190,J3222,J3254,J3286,J3318,J3350,J3382,J3414,J3446,J3478,J3510,J3542,J3574,J3606,J3638,J3670,J3702,J3734,J3766,J3798,J3830,J3862,J3894,J3926,J3958,J3990,J4022,J4054,J4086,J4118,J4150,J4182,J4214,J4246,J4278,J4310,J4342,J4374,J4406,J4438,J4470,J4502,J4534,J4566,J4598,J4630,J4662,J4694,J4726,J4758,J4790,J4822,J4854,J4886,J4918,J4950,J4982,J5014,J5046,J5078,J5110,J5142,J5174,J5206,J5238,J5270,J5302,J5334,J5366,J5398,J5430,J5462,J5494,J5526,J5558,J5590,J5622,J5654,J5686,J5718,J5750,J5782,J5814,J5846,J5878,J5910,J5942,J5974,J6006,J6038,J6070,J6102,J6134,J6166,J6198,J6230,J6262,J6294,J6326,J6358,J6390,J6422,J6454,J6486,J6518,J6550) -> #REF! | K7: （分）＋ | L7: =#REF! -> #REF! | M7: （分）
B12: イ 技術者別業務人数（人） | I12: 表－３
B13: ① | E13: 職種別業務人数
E14: 業務内容 | G14: ② | H14: ①×②
G15: 比 率 | H15: 計算値 | I15: 計上値
G16: (％) | H16: (人) | I16: (人)
B17: =M2 -> #REF! | E17: 保全技師Ⅰ | G17: 10 | H17: =$B$17*G17% -> #REF! | I17: =IF(H17<>"",ROUNDDOWN(H17,0),"") -> #REF!
E18: 保全技師Ⅱ | G18: 10 | H18: =$B$17*G18% -> #REF! | I18: =IF(H18<>"",ROUNDDOWN(H18,0),"") -> #REF!
E19: 保全技師補 | G19: 20 | H19: =$B$17*G19% -> #REF! | I19: =IF(H19<>"",ROUNDDOWN(H19,0),"") -> #REF!
E20: 保全技術員 | G20: =35 -> 35 | H20: =$B$17*G20% -> #REF! | I20: =IF(H20<>"",ROUNDDOWN(H20,0),"") -> #REF!
E21: 保全技術員補 | G21: 25 | H21: =$B$17*G21% -> #REF! | I21: =IF(H21<>"",ROUNDDOWN(H21,0),"") -> #REF!
E22: そ の 他 | G22: ="--" -> -- | H22: ="--" -> -- | I22: ="--" -> --
E23: 人 数 計 | G23: ="--" -> -- | H23: ="--" -> -- | I23: =SUM(I17:I21) -> #REF!
B26: 危険作業等に伴う補正 | I26: 表－４
B27: 区分 | E27: 作業種別 | I27: 補正率
B28: 危険場所 | E28: 悪環境における作業 | I28: 0.2
E29: 高所又は地下作業 | I29: 0.1
E30: 錯綜場所作業 | I30: 0.3
B31: 作業の制約 | E31: 複雑な制約のある作業 | I31: 0.4
E32: 単純な制約のある作業 | I32: 0.2
B34: 設備経過年数による補正 | I34: 表－５
B35: 区分 | E35: 経過年数 | H35: 補正率
B36: 経過年数補正 | E36: ５年未満 | H36: 0
E37: ５年以上１０年未満 | H37: 0.1
E38: １０年以上 | H38: 0.15
B41: ④ 保全管理業務費の積算
B42: 業務内容 | F42: 年間延業務人数（人）
B43: ろ過機洗浄業務 | F43: =ROUNDDOWN(#REF!,2) -> #REF!
B44: 悪天候時の管理 | F44: =ROUNDDOWN(#REF!,2) -> #REF!
B45: その他の作業時間 | F45: =ROUNDDOWN(#REF!,2) -> #REF!
B46: 計 | F46: =ROUNDDOWN(SUM(F43:G45),2) -> #REF!
B48: 区分 | E48: 年間延業務人数(人) | G48: 技術者区分 | I48: 比率 | K48: 配置人数（人）
B49: その他業務員 | E49: =F46 -> #REF! | G49: 保全技師Ⅰ | I49: 10 | K49: =$E$49*I49% -> #REF!
G50: 保全技師Ⅱ | I50: 10 | K50: =$E$49*I50% -> #REF!
G51: 保全技師補 | I51: 20 | K51: =$E$49*I51% -> #REF!
...

Sheet 保全管理データ
A1: =#REF! -> #REF! | D1: 日常点検 所要時間計算表 | P1: 有 | Q1: 無
B2: 1 | C2: 2 | D2: 3 | E2: ４・５ | F2: ６～１０ | G2: １１～２０ | H2: ２１～３０ | I2: ３１～４０ | J2: ４１～５０ | K2: ５２～ | L2: 設備名 | M2: 機器点数 | N2: 時間 | P2: 有（１つ） | Q2: 有（２つ以上） | R2: 無
A3: 受変電設備 | B3: 5 | C3: 7 | D3: 8 | E3: 8 | F3: 10 | G3: 13 | H3: 16 | L3: 受変電設備 | M3: =#REF! -> #REF! | N3: =IF(M3=0,"",CHOOSE(M3,"5","7","8","8","8","10","10","10","10","10","13","13","13","13","13","13","13","13","13","13","16","16","16","16","16","16","16","16","16","16","手入力箇所","手入力箇所","手入力箇所","手入力箇所","手入力箇所","手入力箇所","手入力箇所","手入力箇所","手入力箇所","手入力箇所","手入力箇所")) -> #REF! | P3: 有（１つ） | Q3: 有（２つ） | R3: 有（３つ） | S3: 有（４つ） | T3: 有（５つ以上） | U3: 無
A4: 配電設備 | B4: 5 | C4: 7 | D4: 8 | E4: 9 | F4: 12 | G4: 16 | L4: 配電設備 | M4: =#REF! -> #REF! | N4: =IF(M4=0,"",CHOOSE(M4,"5","7","8","9","9","12","12","12","12","12","16","16","16","16","16","16","16","16","16","16","手入力箇所","手入力箇所","手入力箇所","手入力箇所","手入力箇所","手入力箇所","手入力箇所","手入力箇所","手入力箇所","手入力箇所")) -> #REF!
A5: 自家用発電 設備（高圧） | B5: 6 | L5: 自家用発電 設備（高圧） | M5: =#REF! -> #REF! | N5: =IF(M5=0,"",CHOOSE(M5,"6","手入力箇所","手入力箇所","手入力箇所","手入力箇所","手入力箇所","手入力箇所","手入力箇所","手入力箇所","手入力箇所","手入力箇所","","")) -> #REF!
A6: 自家用発電 設備（低圧） | B6: 6 | L6: 自家用発電 設備（低圧） | M6: =#REF! -> #REF! | N6: =IF(M6=0,"",CHOOSE(M6,"6","手入力箇所","手入力箇所","手入力箇所","手入力箇所","手入力箇所","手入力箇所","手入力箇所","手入力箇所","手入力箇所","手入力箇所","","")) -> #REF!
A7: 直流電源 装置 | B7: 5 | C7: 7 | D7: 8 | E7: 9 | F7: 12 | L7: 直流電源 装置 | M7: =#REF! -> #REF! | N7: =IF(M7=0,"",CHOOSE(M7,"5","7","8","9","9","12","12","12","12","12","手入力箇所","手入力箇所","手入力箇所","手入力箇所","手入力箇所","手入力箇所","手入力箇所","手入力箇所","手入力箇所","手入力箇所")) -> #REF!
A8: 小型無停電 電源装置 | B8: 4 | C8: 5 | D8: 5 | E8: 6 | L8: 小型無停電 電源装置 | M8: =#REF! -> #REF! | N8: =IF(M8=0,"",CHOOSE(M8,"4","5","5","6","6","手入力箇所","手入力箇所","手入力箇所","手入力箇所","手入力箇所","手入力箇所","手入力箇所","手入力箇所","手入力箇所","手入力箇所")) -> #REF!
A9: 監視制御 装置 | B9: 12 | C9: 12 | D9: 12 | E9: 12 | F9: 12 | G9: 12 | H9: 12 | L9: 監視制御 装置 | M9: =#REF! -> #REF! | N9: =IF(M9=0,"",CHOOSE(M9,"12","12","12","12","12","12","12","12","12","12","12","12","12","12","12","12","12","12","12","12","12","12","12","12","12","12","12","12","12","12","手入力箇所","手入力箇所","手入力箇所","手入力箇所","手入力箇所","手入力箇所","手入力箇所","手入力箇所","手入力箇所","手入力箇所")) -> #REF!
A10: データ処理 設備 | B10: 7 | C10: 7 | D10: 7 | E10: 7 | F10: 7 | L10: データ処理 設備 | M10: =#REF! -> #REF! | N10: =IF(M10=0,"",CHOOSE(M10,"7","7","7","7","7","7","7","7","7","7","手入力箇所","手入力箇所","手入力箇所","手入力箇所","手入力箇所","手入力箇所","手入力箇所","手入力箇所","手入力箇所","手入力箇所")) -> #REF!
A11: 計装機器 | B11: 4 | C11: 5 | D11: 7 | E11: 8 | F11: 11 | G11: 16 | H11: 22 | I11: 26 | J11: 31 | L11: 計装機器 | M11: =#REF! -> #REF! | N11: =IF(M11=0,"",CHOOSE(M11,"4","5","7","8","8","11","11","11","11","11","16","16","16","16","16","16","16","16","16","16","22","22","22","22","22","22","22","22","22","22","26","26","26","26","26","26","26","26","26","26","31","31","31","31","31","31","31","31","31","31","31","手入力箇所","手入力箇所","手入力箇所","手入力箇所","手入力箇所","手入力箇所","手入力箇所","手入力箇所","手入力箇所","手入力箇所")) -> #REF!
A12: 遠隔監視 設備 | B12: 5 | C12: 6 | D12: 7 | L12: 遠隔監視 設備 | M12: =#REF! -> #REF! | N12: =IF(M12=0,"",CHOOSE(M12,"5","6","7","手入力箇所","手入力箇所","手入力箇所","手入力箇所","手入力箇所","手入力箇所","手入力箇所","手入力箇所","手入力箇所","手入力箇所")) -> #REF!
A13: 取水設備 | B13: 3 | C13: 6 | D13: 19 | L13: 取水設備 | M13: =#REF! -> #REF! | N13: =IF(M13=0,"",CHOOSE(M13,"3","6","19","手入力箇所","手入力箇所","手入力箇所","手入力箇所","手入力箇所","手入力箇所","手入力箇所","手入力箇所","手入力箇所","手入力箇所")) -> #REF!
A14: ポンプ設備 | B14: 1 | C14: 3 | D14: 5 | E14: 9 | F14: 26 | L14: ポンプ設備 | M14: =#REF! -> #REF! | N14: 26
A15: 沈澱池設備 | B15: 4 | C15: 11 | D15: 20 | E15: 33 | L15: 沈澱池設備 | M15: =#REF! -> #REF! | N15: =IF(M15=0,"",CHOOSE(M15,"4","11","20","33","33","手入力箇所","手入力箇所","手入力箇所","手入力箇所","手入力箇所","手入力箇所","手入力箇所","手入力箇所","手入力箇所","手入力箇所")) -> #REF!
A16: 急速ろ過池 設備 | B16: 4 | C16: 6 | D16: 8 | E16: 10 | F16: 15 | G16: 23 | H16: 33 | L16: 急速ろ過池 設備 | M16: =#REF! -> #REF! | N16: =IF(M16=0,"",CHOOSE(M16,"4","6","8","10","10","15","15","15","15","15","23","23","23","23","23","23","23","23","23","23","33","33","33","33","33","33","33","33","33","33","手入力箇所","手入力箇所","手入力箇所","手入力箇所","手入力箇所","手入力箇所","手入力箇所","手入力箇所","手入力箇所","手入力箇所")) -> #REF!
A17: 膜ろ過設備 | B17: 6 | C17: 14 | D17: 25 | E17: 39 | L17: 膜ろ過設備 | M17: =#REF! -> #REF! | N17: =IF(M17=0,"",CHOOSE(M17,"6","14","25","39","39","手入力箇所","手入力箇所","手入力箇所","手入力箇所","手入力箇所","手入力箇所","手入力箇所","手入力箇所","手入力箇所","手入力箇所")) -> #REF!
A18: 排水・排泥 池設備 | B18: 2 | C18: 3 | D18: 6 | E18: 9 | L18: 排水・排泥 池設備 | M18: =#REF! -> #REF! | N18: =IF(M18=0,"",CHOOSE(M18,"2","3","6","9","9","手入力箇所","手入力箇所","手入力箇所","手入力箇所","手入力箇所","手入力箇所","手入力箇所","手入力箇所","手入力箇所","手入力箇所")) -> #REF!
A19: 加圧脱水 設備 | B19: 12 | C19: 18 | D19: 22 | E19: 26 | L19: 加圧脱水 設備 | M19: =#REF! -> #REF! | N19: =IF(M19=0,"",CHOOSE(M19,"12","18","22","26","26","手入力箇所","手入力箇所","手入力箇所","手入力箇所","手入力箇所","手入力箇所","手入力箇所","手入力箇所","手入力箇所","手入力箇所")) -> #REF!
A20: 次亜塩素 酸ﾅﾄﾘｳﾑ 注入設備 | B20: 5 | C20: 8 | D20: 11 | E20: 14 | L20: 次亜塩素 酸ﾅﾄﾘｳﾑ 注入設備 | M20: =#REF! -> #REF! | N20: =IF(M20=0,"",CHOOSE(M20,"5","8","11","14","14","手入力箇所","手入力箇所","手入力箇所","手入力箇所","手入力箇所","手入力箇所","手入力箇所","手入力箇所","手入力箇所","手入力箇所")) -> #REF!
A21: 凝集剤注 入設備 | B21: 6 | C21: 11 | D21: 16 | E21: 21 | L21: 凝集剤注 入設備 | M21: =#REF! -> #REF! | N21: =IF(M21=0,"",CHOOSE(M21,"6","11","16","21","21","手入力箇所","手入力箇所","手入力箇所","手入力箇所","手入力箇所","手入力箇所","手入力箇所","手入力箇所","手入力箇所")) -> #REF!
A22: 水酸化ﾅﾄﾘｳﾑ注入設備 | B22: 5 | C22: 7 | D22: 9 | E22: 10 | L22: 水酸化ﾅﾄﾘｳﾑ注入設備 | M22: =#REF! -> #REF! | N22: =IF(M22=0,"",CHOOSE(M22,"5","7","9","10","10","手入力箇所","手入力箇所","手入力箇所","手入力箇所","手入力箇所","手入力箇所","手入力箇所","手入力箇所","手入力箇所")) -> #REF!
A23: 粉末活性炭注入設備 | B23: 9 | C23: 14 | L23: 粉末活性炭注入設備 | M23: =#REF! -> #REF! | N23: =IF(M23=0,"",CHOOSE(M23,"9","14","手入力箇所","手入力箇所","手入力箇所","手入力箇所","手入力箇所","手入力箇所","手入力箇所","手入力箇所","手入力箇所","手入力箇所")) -> #REF!
A24: 外灯 | B24: 3 | C24: 4 | D24: 4 | E24: 5 | F24: 6 | G24: 8 | H24: 9 | I24: 11 | J24: 12 | L24: 外灯 | M24: =#REF! -> #REF! | N24: =IF(M24=0,"",CHOOSE(M24,"3","4","4","5","5","6","6","6","6","6","8","8","8","8","8","8","8","8","8","8","9","9","9","9","9","9","9","9","9","9","11","11","11","11","11","11","11","11","11","11","12","12","12","12","12","12","12","12","12","12","12","手入力箇所","手入力箇所","手入力箇所","手入力箇所","手入力箇所","手入力箇所","手入力箇所","手入力箇所","手入力箇所","手入力箇所")) -> #REF!
A25: 照明 | B25: 3 | C25: 4 | D25: 4 | E25: 5 | F25: 6 | G25: 8 | H25: 10 | I25: 12 | J25: 13 | L25: 照明 | M25: =#REF! -> #REF! | N25: =IF(M25=0,"",CHOOSE(M25,"3","4","4","5","5","6","6","6","6","6","8","8","8","8","8","8","8","8","8","8","10","10","10","10","10","10","10","10","10","10","12","12","12","12","12","12","12","12","12","12","13","13","13","13","13","13","13","13","13","13","13","手入力箇所","手入力箇所","手入力箇所","手入力箇所","手入力箇所","手入力箇所","手入力箇所","手入力箇所","手入力箇所","手入力箇所")) -> #REF!
A26: 空気 調和機 | B26: 1 | C26: 2 | D26: 3 | E26: 4 | F26: 8 | G26: 19 | L26: 空気 調和機 | M26: =#REF! -> #REF! | N26: =IF(M26=0,"",CHOOSE(M26,"1","2","3","4","4","8","8","8","8","8","19","19","19","19","19","19","19","19","19","19","手入力箇所","手入力箇所","手入力箇所","手入力箇所","手入力箇所","手入力箇所","手入力箇所","手入力箇所","手入力箇所","手入力箇所")) -> #REF!
A28: =#REF! -> #REF! | D28: 定期点検 所要時間計算表
B29: 1 | C29: 2 | D29: 3 | E29: ４・５ | F29: ６～１０ | G29: １１～２０ | H29: ２１～３０ | I29: ３１～４０ | J29: ４１～５０ | K29: ５２～ | L29: 設備名 | M29: 機器点数 | N29: 時間
A30: 受変電設備 | B30: 16 | C30: 25 | D30: 32 | E30: 38 | F30: 56 | G30: 87 | H30: 121 | L30: 受変電設備 | M30: =#REF! -> #REF! | N30: =IF(M30=0,"",CHOOSE(M30,"16","25","32","38","38","56","56","56","56","56","87","87","87","87","87","87","87","87","87","87","121","121","121","121","121","121","121","121","121","121","手入力箇所","手入力箇所","手入力箇所","手入力箇所","手入力箇所","手入力箇所","手入力箇所","手入力箇所","手入力箇所","手入力箇所")) -> #REF!
A31: 配電設備 | B31: 25 | C31: 33 | D31: 40 | E31: 45 | F31: 58 | G31: 79 | L31: 配電設備 | M31: =#REF! -> #REF! | N31: =IF(M31=0,"",CHOOSE(M31,"25","33","40","45","45","58","58","58","58","58","79","79","79","79","79","79","79","79","79","79","手入力箇所","手入力箇所","手入力箇所","手入力箇所","手入力箇所","手入力箇所","手入力箇所","手入力箇所","手入力箇所","手入力箇所")) -> #REF!
A32: 自家用発電 設備（高圧） | B32: 32 | L32: 自家用発電 設備（高圧） | M32: =#REF! -> #REF! | N32: =IF(M32=0,"",CHOOSE(M32,"32","手入力箇所","手入力箇所","手入力箇所","手入力箇所","手入力箇所","手入力箇所","手入力箇所","手入力箇所","手入力箇所","手入力箇所")) -> #REF!
A33: 自家用発電 設備（低圧） | B33: 36 | L33: 自家用発電 設備（低圧） | M33: =#REF! -> #REF! | N33: =IF(M33=0,"",CHOOSE(M33,"36","手入力箇所","手入力箇所","手入力箇所","手入力箇所","手入力箇所","手入力箇所","手入力箇所","手入力箇所","手入力箇所","手入力箇所")) -> #REF!
A34: 直流電源 装置 | B34: 24 | C34: 30 | D34: 33 | E34: 35 | F34: 42 | L34: 直流電源 装置 | M34: =#REF! -> #REF! | N34: =IF(M34=0,"",CHOOSE(M34,"24","30","33","35","35","42","42","42","42","42","手入力箇所","手入力箇所","手入力箇所","手入力箇所","手入力箇所","手入力箇所","手入力箇所","手入力箇所","手入力箇所","手入力箇所")) -> #REF!
A35: 小型無停電 電源装置 | B35: 7 | C35: 12 | D35: 16 | E35: 19 | L35: 小型無停電 電源装置 | M35: =#REF! -> #REF! | N35: =IF(M35=0,"",CHOOSE(M35,"7","12","16","19","19","手入力箇所","手入力箇所","手入力箇所","手入力箇所","手入力箇所","手入力箇所","手入力箇所","手入力箇所","手入力箇所","手入力箇所")) -> #REF!
A36: 監視制御 装置 | B36: 21 | C36: 35 | D36: 48 | E36: 59 | F36: 94 | G36: 159 | H36: 235 | L36: 監視制御 装置 | M36: =#REF! -> #REF! | N36: =IF(M36=0,"",CHOOSE(M36,"21","35","48","59","59","94","94","94","94","94","159","159","159","159","159","159","159","159","159","159","235","235","235","235","235","235","235","235","235","235","手入力箇所","手入力箇所","手入力箇所","手入力箇所","手入力箇所","手入力箇所","手入力箇所","手入力箇所","手入力箇所","手入力箇所")) -> #REF!
A37: データ処理 設備 | B37: 22 | C37: 26 | D37: 28 | E37: 29 | F37: 34 | L37: データ処理 設備 | M37: =#REF! -> #REF! | N37: =IF(M37=0,"",CHOOSE(M37,"22","26","28","29","29","34","34","34","34","34","手入力箇所","手入力箇所","手入力箇所","手入力箇所","手入力箇所","手入力箇所","手入力箇所","手入力箇所","手入力箇所","手入力箇所")) -> #REF!
A38: 計装機器 | B38: 21 | C38: 33 | D38: 46 | E38: 56 | F38: 89 | G38: 151 | H38: 224 | I38: 289 | J38: 350 | L38: 計装機器 | M38: =#REF! -> #REF! | N38: =IF(M38=0,"",CHOOSE(M38,"21","33","46","56","56","89","89","89","89","89","151","151","151","151","151","151","151","151","151","151","224","224","224","224","224","224","224","224","224","224","289","289","289","289","289","289","289","289","289","289","350","350","350","350","350","350","350","350","350","350","350","手入力箇所","手入力箇所","手入力箇所","手入力箇所","手入力箇所","手入力箇所","手入力箇所","手入力箇所","手入力箇所","手入力箇所")) -> #REF!
A39: 遠隔監視 設備 | B39: 13 | C39: 33 | D39: 59 | L39: 遠隔監視 設備 | M39: =#REF! -> #REF! | N39: =IF(M39=0,"",CHOOSE(M39,"13","33","59","手入力箇所","手入力箇所","手入力箇所","手入力箇所","手入力箇所","手入力箇所","手入力箇所","手入力箇所","手入力箇所","手入力箇所")) -> #REF!
A40: 取水設備 | B40: 23 | C40: 39 | D40: 97 | L40: 取水設備 | M40: =#REF! -> #REF! | N40: =IF(M40=0,"",CHOOSE(M40,"23","39","97","手入力箇所","手入力箇所","手入力箇所","手入力箇所","手入力箇所","手入力箇所","手入力箇所","手入力箇所","手入力箇所","手入力箇所")) -> #REF!
A41: ポンプ設備 | B41: 21 | C41: 37 | D41: 58 | E41: 76 | F41: 137 | L41: ポンプ設備 | M41: =#REF! -> #REF! | N41: =IF(M41=0,"",CHOOSE(M41,"21","37","58","76","76","137","137","137","137","137","手入力箇所","手入力箇所","手入力箇所","手入力箇所","手入力箇所","手入力箇所","手入力箇所","手入力箇所","手入力箇所","手入力箇所")) -> #REF!
...

Sheet 代価表(2)
B18: 第５号代価表 | C18: 修 繕 補 修 費
B19: 種 目 | C19: 形状・寸法 | D19: 単位 | E19: 数量 | G19: 単 価 | I19: 金 額 | K19: 摘 要
B20: =入力シート２!B41 -> 0 | D20: =入力シート２!E41 -> 0 | E20: =入力シート２!F41 -> 0 | I20: =入力シート２!G41 -> 0
B21: =入力シート２!B42 -> 0 | D21: =入力シート２!E42 -> 0 | E21: =入力シート２!F42 -> 0 | I21: =入力シート２!G42 -> 0
B22: =入力シート２!B43 -> 0 | D22: =入力シート２!E43 -> 0 | E22: =入力シート２!F43 -> 0 | I22: =入力シート２!G43 -> 0
B23: =入力シート２!B44 -> 0 | D23: =入力シート２!E44 -> 0 | E23: =入力シート２!F44 -> 0 | I23: =入力シート２!G44 -> 0
B25: 計 | I25: =SUM(I20:I24) -> 0
G26: 改め | I26: =ROUNDDOWN(I25,-3) -> 0
B29: 第６号代価表 | C29: 薬 品 等 調 達 費
B30: 種 目 | C30: 形状・寸法 | D30: 単位 | E30: 数量 | G30: 単 価 | I30: 金 額 | K30: 摘 要
B31: =入力シート２!B85 -> 0 | D31: =入力シート２!E85 -> 0 | E31: =入力シート２!F85 -> 0 | G31: =入力シート２!G85 -> 0 | I31: =入力シート２!I85 -> 0
B32: =入力シート２!B86 -> 0 | D32: =入力シート２!E86 -> 0 | E32: =入力シート２!F86 -> 0 | G32: =入力シート２!G86 -> 0 | I32: =入力シート２!I86 -> 0
B33: =入力シート２!B87 -> 0 | D33: =入力シート２!E87 -> 0 | E33: =入力シート２!F87 -> 0 | G33: =入力シート２!G87 -> 0 | I33: =入力シート２!I87 -> 0
B34: =入力シート２!B88 -> 0 | D34: =入力シート２!E88 -> 0 | E34: =入力シート２!F88 -> 0 | G34: =入力シート２!G88 -> 0 | I34: =入力シート２!I88 -> 0
B35: =入力シート２!B89 -> 0 | D35: =入力シート２!E89 -> 0 | E35: =入力シート２!F89 -> 0 | G35: =入力シート２!G89 -> 0 | I35: =入力シート２!I89 -> 0
B36: =入力シート２!B90 -> 0 | C36: 0 | D36: =入力シート２!E90 -> 0 | E36: =入力シート２!F90 -> 0 | G36: =入力シート２!G90 -> 0 | I36: =入力シート２!I90 -> 0 | K36: 0
B37: =入力シート２!B91 -> 0 | C37: 0 | D37: =入力シート２!E91 -> 0 | E37: =入力シート２!F91 -> 0 | G37: =入力シート２!G91 -> 0 | I37: =入力シート２!I91 -> 0 | K37: 0
B38: =入力シート２!B92 -> 0 | C38: 0 | D38: =入力シート２!E92 -> 0 | E38: =入力シート２!F92 -> 0 | G38: =入力シート２!G92 -> 0 | I38: =入力シート２!I92 -> 0 | K38: 0
B39: 計 | I39: =SUM(I31:I35) -> 0
B41: 第７号代価表 | C41: 関 連 業 務 委 託 費
B42: 種 目 | C42: 形状・寸法 | D42: 単位 | E42: 数量 | G42: 単 価 | I42: 金 額 | K42: 摘 要
B43: =入力シート２!B98 -> 0 | D43: =入力シート２!E98 -> 0 | E43: =入力シート２!F98 -> 0 | I43: =入力シート２!G98 -> 0
B44: =入力シート２!B99 -> 0 | D44: =入力シート２!E99 -> 0 | E44: =入力シート２!F99 -> 0 | I44: =入力シート２!G99 -> 0
B45: =入力シート２!B100 -> 0 | C45: 0 | D45: =入力シート２!E100 -> 0 | E45: =入力シート２!F100 -> 0 | G45: 0 | I45: =入力シート２!G100 -> 0 | K45: 0
B46: =入力シート２!B101 -> 0 | C46: 0 | D46: =入力シート２!E101 -> 0 | E46: =入力シート２!F101 -> 0 | G46: 0 | I46: =入力シート２!G101 -> 0 | K46: 0
B47: 0 | C47: 0 | D47: 0 | E47: 0 | G47: 0 | I47: 0 | K47: 0
B48: 計 | I48: =SUM(I43:I47) -> 0
G49: 改め | I49: =ROUNDDOWN(I48,-4) -> 0
